Workbook
Name достаточность: #REF!
Name ОКРУГЛ: баланс!#REF!

Sheet Заявка
A1: ЗАЯВКА* на участие в конкурсе инвестиционных проектов, бизнес-проектов субъектов малого (среднего) предпринимательства (коммерческие организации), претендующих на получение финансовой поддержки (далее - Заявитель) в Белорусском фонде финансовой поддержки предпринимателей (примерная форма)
A2: 1. Данные Заявителя
A3: 1.1. Полное наименование (согласно Устава, свидетельства)
A5: Сокращенное наименование (согласно Устава, свидетельства)
A7: 1.2. УНП
A8: 1.2.1. Дата создания организации (государственной регистрации)
A9: 1.2.2. Фактический срок работы организации на рынке
A10: 1.3. Информация о видах деятельности, уставный фонд, лицензии:
A11: Основной вид деятельности
A12: ОКЭД:
A13: Доля в общем объеме выручки %
A14: Сезонность деятельности организации (указать месяцы уменьшения выручки (если есть))
A15: Второй вид деятельность (ОКЭД) | H15: Иные виды деятельности (ОКЭД)
A17: Доля в общем объеме выручки % | H17: Доля в общем объеме выручки %
A19: Лицензируемые виды деятельности (Да/Нет):
A21: Вид лицензии, №, срок действия, кем выдана
A23: Уставный фонд (размер, руб.) (для организаций)
A24: Распределение уставного фонда заявителя:
A25: Ф.И.О. (Полностью)/ Полное наименование организации | F25: Доля в УФ, % | G25: Идентификационный (личный) номер/ УНП
A35: Наименование организаций, акционером (учредителем) которых является заявитель, доля в уставном фонде:
A36: Дата государственной регистрации
A37: 1.4. Местонахождение заявителя
A38: 1.4.1. Дополнительный (-ые) адрес (-а) местонахождения (ведения бизнеса) при его (их) наличии
A39: Наименование объекта | F39: Адрес | J39: В собственности/арендуемое помещение
M40: Собственное
M41: Арендуемое
A49: 1.5. Связанные с Заявителем лица (общими учредителями (участниками) и /или лицом, оказывающим влияние на принятие субъектом МСП решений, а также в случаях, когда учредителями (участниками) субъектов МСП являются физические лица, состоящие в соответствии с законодательством в брачных отношениях или отношениях близкого родства или свойства)
A50: Полное наименование юридического лица, ФИО (Полностью) физического лица | F50: УНП/ идентификационный номер | H50: Дата создания | I50: Вид деятельности | K50: Доля в уставном фонде или иной характер связи
A56: 1.6. Официальный сайт (в случае его наличия)
A57: 1.6.1. E-mail
A58: 1.7. Информация о текущих (расчетных) счетах:
A59: Наименование банка | H59: № счетов | L59: Валюта счета
A72: 1.8. Информация о руководителе:
A73: Директор (Ф.И.О. без сокращений) | M73: ёт
A74: рабочий телефон
A75: мобильный телефон
A76: Дата рождения
A77: Место рождения
A78: Паспортные данные: серия, №, дата выдачи, срок действия, кем выдан, личный номер
A79: Адрес регистрации, телефон
...

Sheet Фин.показатели ТЭО
A1: Приложение №1: Финансово-экономические показатели по ТЭО
A3: __ __________/20___г.
A4: 1. Затраты на реализацию инвестиционного, бизнес проекта
A5: Для проектов финансируемых в рамках конкурсного отбора и финансируемых в рамках финансового продукта «Сильные регионы» | F5: Для проектов финансируемых за счет иных источников
A6: №п/п | B6: Вид затрат | C6: Всего, тыс.руб. | D6: В т.ч. средства Фонда, тыс.руб. | F6: №п/п | G6: Вид затрат | I6: Всего, тыс.руб. | J6: В т.ч. средства Фонда, тыс.руб.
A7: 1.1. | B7: Затраты: | C7: =SUM(C8:C12) -> 0 | D7: =SUM(D8:D12) -> 0 | F7: 1.1. | G7: Затраты: | I7: =SUM(I8:I12) -> 0 | J7: =SUM(J8:J12) -> 0
A8: 1.1.1. | B8: =Заявка!A202 -> возведение, реконструкция, модернизация, техническая модернизация, ремонт капитальных строений (зданий, сооружений), изолированных помещений, проведение ремонтно-реставрационных работ и монтажа всех видов оборудования; | F8: 1.1.1. | G8: Финансирование затрат субъектов МСП на строительство (возведение, реконструкция, модернизация, капитальный ремонт), приобретение основных средств и/или финансирование затрат субъектов МСП на приобретение нематериальных активов (франшизы) для их производственной деятельности или деятельности по оказанию услуг.
A9: 1.1.2. | B9: =Заявка!A203 -> приобретение капитальных строений (зданий, сооружений), изолированных помещений;
A10: 1.1.3. | B10: =Заявка!A204 -> приобретение машин и оборудования, транспортных средств, специальных устройств и приспособлений, инструментов;
A11: 1.1.4. | B11: =Заявка!A205 -> приобретение комплектующих изделий, сырья, материалов, программного обеспечения (его обновления), товаров (работ, услуг) для собственного производства продукции (товаров, выполнения работ, оказания услуг); | F11: 1.1.2. | G11: Финансирование текущей деятельности субъектов МСП (с учетом дополнительных условий спецификации), за исключением оплаты заработной платы работникам и связанных с ней платежей в соответствии с законодательством.
A12: 1.1.5. | B12: Иное
A14: 2. Программа производства и реализиции продукции (услуг, работ)
A15: № п/п | B15: Наименование показателей | C15: Наименование продукции, услуги, работ | D15: Базовый год - указать* | E15: 1 год (период) - указать** | F15: 2 год (период) - указать** | H15: 3 год (период) - укакзать** | I15: 4 год (период) - указать** | J15: 5 год (период) - указать**
A16: 2.1. | B16: Использование производственных (технических, иных) мощностей с учетом проекта, итого (тыс.руб.): | D16: =D18+D20+D22+D24 -> 0 | E16: =E18+E20+E22+E24 -> 0 | F16: =F18+F20+F22+F24 -> 0 | H16: =H18+H20+H22+H24 -> 0 | I16: =I18+I20+I22+I24 -> 0 | J16: =J18+J20+J22+J24 -> 0
B17: % | D17: =D19+D21+D23+D25 -> #DIV/0! | E17: =E19+E21+E23+E25 -> #DIV/0! | F17: =F19+F21+F23+F25 -> #DIV/0! | H17: =H19+H21+H23+H25 -> #DIV/0! | I17: =I19+I21+I23+I25 -> #DIV/0! | J17: =J19+J21+J23+J25 -> #DIV/0!
A18: Основная продукция, услуга, работа А (тыс.руб.)
A19: % | D19: =D18/D$16*100 -> #DIV/0! | E19: =E18/E$16*100 -> #DIV/0! | F19: =F18/F$16*100 -> #DIV/0! | H19: =H18/H$16*100 -> #DIV/0! | I19: =I18/I$16*100 -> #DIV/0! | J19: =J18/J$16*100 -> #DIV/0!
A20: Основная продукция, услуга, работа Б (тыс.руб.)
A21: % | D21: =D20/D$16*100 -> #DIV/0! | E21: =E20/E$16*100 -> #DIV/0! | F21: =F20/F$16*100 -> #DIV/0! | H21: =H20/H$16*100 -> #DIV/0! | I21: =I20/I$16*100 -> #DIV/0! | J21: =J20/J$16*100 -> #DIV/0!
A22: Основная продукция, услуга, работа В (тыс.руб.)
A23: % | D23: =D22/D$16*100 -> #DIV/0! | E23: =E22/E$16*100 -> #DIV/0! | F23: =F22/F$16*100 -> #DIV/0! | H23: =H22/H$16*100 -> #DIV/0! | I23: =I22/I$16*100 -> #DIV/0! | J23: =J22/J$16*100 -> #DIV/0!
A24: Прочая продукция, услуга, работа (прочее) (тыс.руб.)
A25: % | D25: =D24/D$16*100 -> #DIV/0! | E25: =E24/E$16*100 -> #DIV/0! | F25: =F24/F$16*100 -> #DIV/0! | H25: =H24/H$16*100 -> #DIV/0! | I25: =I24/I$16*100 -> #DIV/0! | J25: =J24/J$16*100 -> #DIV/0!
A26: 2.2. | B26: Объем реализации продукции (услуг, работ) | D26: =D15 -> Базовый год - указать* | E26: =E15 -> 1 год (период) - указать** | F26: =F15 -> 2 год (период) - указать** | H26: =H15 -> 3 год (период) - укакзать** | I26: =I15 -> 4 год (период) - указать** | J26: =J15 -> 5 год (период) - указать**
B27: в тыс. руб. | D27: =C36 -> 0 | E27: =D36 -> 0 | F27: =E36 -> 0 | H27: =F36 -> 0 | I27: =H36 -> 0 | J27: =I36 -> 0
B28: Внутрений рынок, % | D28: =100-D29 -> 100 | E28: =100-E29 -> 100 | F28: =100-F29 -> 100 | H28: =100-H29 -> 100 | I28: =100-I29 -> 100 | J28: =100-J29 -> 100
B29: Экспорт, % | D29: 0 | E29: 0 | F29: 0 | H29: 0 | I29: 0 | J29: 0
A30: * Базовый год - это полный календарный закрытый год (например: получение финансирование планируется в ноябре 2026 г., базовый год - 2025 г.)
A31: ** Период - это плановый период по развитию организации с учетом проекта (например: организация планирует получить финансирование в ноябре 2026 года - 1 год (период) будет ноябрь 2026 - октябрь 2027 и т.д.)
A33: 3. Основные показатели деятельности субъекта малого (среднего) предпринимательства в период реализации инвестиционного проекта, бизнес проекта (тыс.руб.)
A34: № | B34: Наименование показателей | C34: =D15 -> Базовый год - указать* | D34: =E15 -> 1 год (период) - указать** | E34: =F15 -> 2 год (период) - указать** | F34: =H15 -> 3 год (период) - укакзать** | H34: =I15 -> 4 год (период) - указать** | I34: =J15 -> 5 год (период) - указать**
A35: п/п
A36: 3.1. | B36: Выручка от реализации товаров, продукции, работ, услуг.
A37: 3.2. | B37: Налоги и сборы, включаемые в выручку от реализации товаров, продукции, работ, услуг.
A38: 3.3. | B38: Выручка от реализации товаров, продукции, работ, услуг (без НДС) | C38: =C36-C37 -> 0 | D38: =D36-D37 -> 0 | E38: =E36-E37 -> 0 | F38: =F36-F37 -> 0 | H38: =H36-H37 -> 0 | I38: =I36-I37 -> 0
A39: 3.4. | B39: Себестоимость реализованных товаров, продукции, работ, услуг. (расшифровать) | C39: =SUM(C40:C44) -> 0 | D39: =SUM(D40:D44) -> 0 | E39: =SUM(E40:E44) -> 0 | F39: =SUM(F40:G44) -> 0 | H39: =SUM(H40:H44) -> 0 | I39: =SUM(I40:I44) -> 0
A40: 3.4.1.
A41: 3.4.2.
A42: 3.4.3.
A43: 3.4.4.
...

Sheet баланс
B2: Наименование Заявителя | C2: =Заключение!D5 -> 0
B3: Основной вид деятельности: | C3: =Заключение!G12 -> 0
B4: ОКЭД | C4: =Заключение!D8 -> 0
B6: Наименование строки баланса | C6: Code of the line
B7: АКТИВ | D7: 45657 | E7: 46022 | G7: Изменение 01.04.26 (+-%) | H7: Изменение 01.04.15(+-%) | I7: Изменение 01.07.15(+-%) | J7: Изменение 01.10.15(+-%) | K7: Изменение 01.01.16 (+-%)
B8: I. ДОЛГОСРОЧНЫЕ АКТИВЫ
B9: Основные средства | C9: 110 | G9: =IF(E9=0,"",F9/E9-1) | H9: =IF(#REF!=0,"",#REF!/#REF!-1) -> #REF! | I9: =IF(#REF!=0,"",#REF!/#REF!-1) -> #REF! | J9: =IF(#REF!=0,"",#REF!/#REF!-1) -> #REF! | K9: =IF(#REF!=0,"",G9/#REF!-1) -> #REF!
B10: Нематериальные активы | C10: 120 | G10: =IF(E10=0,"",F10/E10-1) | H10: =IF(#REF!=0,"",#REF!/#REF!-1) -> #REF! | I10: =IF(#REF!=0,"",#REF!/#REF!-1) -> #REF! | J10: =IF(#REF!=0,"",#REF!/#REF!-1) -> #REF! | K10: =IF(#REF!=0,"",#REF!/#REF!-1) -> #REF!
B11: Доходные вложения в материальные активы | C11: 130 | D11: =D12+D13+D14 -> 0 | E11: =E12+E13+E14 -> 0 | F11: =F12+F13+F14 -> 0 | G11: =IF(E11=0,"",F11/E11-1) | H11: =IF(#REF!=0,"",#REF!/#REF!-1) -> #REF! | I11: =IF(#REF!=0,"",#REF!/#REF!-1) -> #REF! | J11: =IF(#REF!=0,"",#REF!/#REF!-1) -> #REF! | K11: =IF(#REF!=0,"",#REF!/#REF!-1) -> #REF!
B12: в том числе: инвестиционная недвижимость | C12: 131 | G12: =IF(E12=0,"",F12/E12-1) | H12: =IF(#REF!=0,"",#REF!/#REF!-1) -> #REF! | I12: =IF(#REF!=0,"",#REF!/#REF!-1) -> #REF! | J12: =IF(#REF!=0,"",#REF!/#REF!-1) -> #REF! | K12: =IF(#REF!=0,"",#REF!/#REF!-1) -> #REF!
B13: предметы финансовой аренды (лизинга) | C13: 132 | G13: =IF(E13=0,"",F13/E13-1) | H13: =IF(#REF!=0,"",#REF!/#REF!-1) -> #REF! | I13: =IF(#REF!=0,"",#REF!/#REF!-1) -> #REF! | J13: =IF(#REF!=0,"",#REF!/#REF!-1) -> #REF! | K13: =IF(#REF!=0,"",#REF!/#REF!-1) -> #REF!
B14: прочие доходные вложения в материальные активы | C14: 133 | G14: =IF(E14=0,"",F14/E14-1) | H14: =IF(#REF!=0,"",#REF!/#REF!-1) -> #REF! | I14: =IF(#REF!=0,"",#REF!/#REF!-1) -> #REF! | J14: =IF(#REF!=0,"",#REF!/#REF!-1) -> #REF! | K14: =IF(#REF!=0,"",#REF!/#REF!-1) -> #REF!
B15: Вложения в долгосрочные активы | C15: 140 | G15: =IF(E15=0,"",F15/E15-1) | H15: =IF(#REF!=0,"",#REF!/#REF!-1) -> #REF! | I15: =IF(#REF!=0,"",#REF!/#REF!-1) -> #REF! | J15: =IF(#REF!=0,"",#REF!/#REF!-1) -> #REF! | K15: =IF(#REF!=0,"",#REF!/#REF!-1) -> #REF!
B16: Долгосрочные финансовые вложения | C16: 150 | G16: =IF(E16=0,"",F16/E16-1) | H16: =IF(#REF!=0,"",#REF!/#REF!-1) -> #REF! | I16: =IF(#REF!=0,"",#REF!/#REF!-1) -> #REF! | J16: =IF(#REF!=0,"",#REF!/#REF!-1) -> #REF! | K16: =IF(#REF!=0,"",#REF!/#REF!-1) -> #REF!
B17: Отложенные налоговые активы | C17: 160 | G17: =IF(E17=0,"",F17/E17-1) | H17: =IF(#REF!=0,"",#REF!/#REF!-1) -> #REF! | I17: =IF(#REF!=0,"",#REF!/#REF!-1) -> #REF! | J17: =IF(#REF!=0,"",#REF!/#REF!-1) -> #REF! | K17: =IF(#REF!=0,"",#REF!/#REF!-1) -> #REF!
B18: Долгосрочная дебиторская задолженность | C18: 170 | G18: =IF(E18=0,"",F18/E18-1) | H18: =IF(#REF!=0,"",#REF!/#REF!-1) -> #REF! | I18: =IF(#REF!=0,"",#REF!/#REF!-1) -> #REF! | J18: =IF(#REF!=0,"",#REF!/#REF!-1) -> #REF! | K18: =IF(#REF!=0,"",#REF!/#REF!-1) -> #REF!
B19: Прочие долгосрочные активы | C19: 180 | G19: =IF(E19=0,"",F19/E19-1) | H19: =IF(#REF!=0,"",#REF!/#REF!-1) -> #REF! | I19: =IF(#REF!=0,"",#REF!/#REF!-1) -> #REF! | J19: =IF(#REF!=0,"",#REF!/#REF!-1) -> #REF! | K19: =IF(#REF!=0,"",#REF!/#REF!-1) -> #REF!
B20: Итого по разделу I | C20: 190 | D20: =D9+D10+D11+D15+D16+D17+D18+D19 -> 0 | E20: =E9+E10+E11+E15+E16+E17+E18+E19 -> 0 | F20: =F9+F10+F11+F15+F16+F17+F18+F19 -> 0 | G20: =IF(E20=0,"",F20/E20-1) | H20: =IF(#REF!=0,"",#REF!/#REF!-1) -> #REF! | I20: =IF(#REF!=0,"",#REF!/#REF!-1) -> #REF! | J20: =IF(#REF!=0,"",#REF!/#REF!-1) -> #REF! | K20: =IF(#REF!=0,"",#REF!/#REF!-1) -> #REF!
B21: II. КРАТКОСРОЧНЫЕ АКТИВЫ | G21: =IF(E21=0,"",F21/E21-1)
B22: Запасы | C22: 210 | D22: =SUM(D23:D28) -> 0 | E22: =SUM(E23:E28) -> 0 | F22: =SUM(F23:F28) -> 0 | G22: =IF(E22=0,"",F22/E22-1) | H22: =IF(#REF!=0,"",#REF!/#REF!-1) -> #REF! | I22: =IF(#REF!=0,"",#REF!/#REF!-1) -> #REF! | J22: =IF(#REF!=0,"",#REF!/#REF!-1) -> #REF! | K22: =IF(#REF!=0,"",#REF!/#REF!-1) -> #REF!
B23: В том числе:материалы | C23: 211 | G23: =IF(E23=0,"",F23/E23-1) | H23: =IF(#REF!=0,"",#REF!/#REF!-1) -> #REF! | I23: =IF(#REF!=0,"",#REF!/#REF!-1) -> #REF! | J23: =IF(#REF!=0,"",#REF!/#REF!-1) -> #REF! | K23: =IF(#REF!=0,"",#REF!/#REF!-1) -> #REF!
B24: животные на выращивании и откорме | C24: 212 | G24: =IF(E24=0,"",F24/E24-1) | H24: =IF(#REF!=0,"",#REF!/#REF!-1) -> #REF! | I24: =IF(#REF!=0,"",#REF!/#REF!-1) -> #REF! | J24: =IF(#REF!=0,"",#REF!/#REF!-1) -> #REF! | K24: =IF(#REF!=0,"",#REF!/#REF!-1) -> #REF!
B25: незавершенное производство и полуфабрикаты | C25: 213 | G25: =IF(E25=0,"",F25/E25-1) | H25: =IF(#REF!=0,"",#REF!/#REF!-1) -> #REF! | I25: =IF(#REF!=0,"",#REF!/#REF!-1) -> #REF! | J25: =IF(#REF!=0,"",#REF!/#REF!-1) -> #REF! | K25: =IF(#REF!=0,"",#REF!/#REF!-1) -> #REF!
B26: готовая продукция и товары | C26: 214 | G26: =IF(E26=0,"",F26/E26-1) | H26: =IF(#REF!=0,"",#REF!/#REF!-1) -> #REF! | I26: =IF(#REF!=0,"",#REF!/#REF!-1) -> #REF! | J26: =IF(#REF!=0,"",#REF!/#REF!-1) -> #REF! | K26: =IF(#REF!=0,"",#REF!/#REF!-1) -> #REF!
B27: товары отгруженные | C27: 215 | G27: =IF(E27=0,"",F27/E27-1) | H27: =IF(#REF!=0,"",#REF!/#REF!-1) -> #REF! | I27: =IF(#REF!=0,"",#REF!/#REF!-1) -> #REF! | J27: =IF(#REF!=0,"",#REF!/#REF!-1) -> #REF! | K27: =IF(#REF!=0,"",#REF!/#REF!-1) -> #REF!
B28: прочие запасы | C28: 216 | G28: =IF(E28=0,"",F28/E28-1) | H28: =IF(#REF!=0,"",#REF!/#REF!-1) -> #REF! | I28: =IF(#REF!=0,"",#REF!/#REF!-1) -> #REF! | J28: =IF(#REF!=0,"",#REF!/#REF!-1) -> #REF! | K28: =IF(#REF!=0,"",#REF!/#REF!-1) -> #REF!
B29: Долгосрочные активы, предназначенные для реализации | C29: 220 | G29: =IF(E29=0,"",F29/E29-1) | H29: =IF(#REF!=0,"",#REF!/#REF!-1) -> #REF! | I29: =IF(#REF!=0,"",#REF!/#REF!-1) -> #REF! | J29: =IF(#REF!=0,"",#REF!/#REF!-1) -> #REF! | K29: =IF(#REF!=0,"",#REF!/#REF!-1) -> #REF!
B30: Расходы будущих периодов | C30: 230 | G30: =IF(E30=0,"",F30/E30-1) | H30: =IF(#REF!=0,"",#REF!/#REF!-1) -> #REF! | I30: =IF(#REF!=0,"",#REF!/#REF!-1) -> #REF! | J30: =IF(#REF!=0,"",#REF!/#REF!-1) -> #REF! | K30: =IF(#REF!=0,"",#REF!/#REF!-1) -> #REF!
B31: Налог на добавленную стоимость по приобретенным товарам, работам, услугам | C31: 240 | G31: =IF(E31=0,"",F31/E31-1) | H31: =IF(#REF!=0,"",#REF!/#REF!-1) -> #REF! | I31: =IF(#REF!=0,"",#REF!/#REF!-1) -> #REF! | J31: =IF(#REF!=0,"",#REF!/#REF!-1) -> #REF! | K31: =IF(#REF!=0,"",#REF!/#REF!-1) -> #REF!
B32: Краткосрочная дебиторская задолженность | C32: 250 | G32: =IF(E32=0,"",F32/E32-1) | H32: =IF(#REF!=0,"",#REF!/#REF!-1) -> #REF! | I32: =IF(#REF!=0,"",#REF!/#REF!-1) -> #REF! | J32: =IF(#REF!=0,"",#REF!/#REF!-1) -> #REF! | K32: =IF(#REF!=0,"",#REF!/#REF!-1) -> #REF!
B33: Краткосрочные финансовые вложения | C33: 260 | G33: =IF(E33=0,"",F33/E33-1) | H33: =IF(#REF!=0,"",#REF!/#REF!-1) -> #REF! | I33: =IF(#REF!=0,"",#REF!/#REF!-1) -> #REF! | J33: =IF(#REF!=0,"",#REF!/#REF!-1) -> #REF! | K33: =IF(#REF!=0,"",#REF!/#REF!-1) -> #REF!
B34: Денежные средства и их эквиваленты | C34: 270 | G34: =IF(E34=0,"",F34/E34-1) | H34: =IF(#REF!=0,"",#REF!/#REF!-1) -> #REF! | I34: =IF(#REF!=0,"",#REF!/#REF!-1) -> #REF! | J34: =IF(#REF!=0,"",#REF!/#REF!-1) -> #REF! | K34: =IF(#REF!=0,"",#REF!/#REF!-1) -> #REF!
B35: Прочие краткосрочные активы | C35: 280 | G35: =IF(E35=0,"",F35/E35-1) | H35: =IF(#REF!=0,"",#REF!/#REF!-1) -> #REF! | I35: =IF(#REF!=0,"",#REF!/#REF!-1) -> #REF! | J35: =IF(#REF!=0,"",#REF!/#REF!-1) -> #REF! | K35: =IF(#REF!=0,"",#REF!/#REF!-1) -> #REF!
B36: Итого по разделу II | C36: 290 | D36: =SUM(D22,D29:D35) -> 0 | E36: =SUM(E22,E29:E35) -> 0 | F36: =SUM(F22,F29:F35) -> 0 | G36: =IF(E36=0,"",F36/E36-1) | H36: =IF(#REF!=0,"",#REF!/#REF!-1) -> #REF! | I36: =IF(#REF!=0,"",#REF!/#REF!-1) -> #REF! | J36: =IF(#REF!=0,"",#REF!/#REF!-1) -> #REF! | K36: =IF(#REF!=0,"",#REF!/#REF!-1) -> #REF!
B37: БАЛАНС | C37: 300 | D37: =D20+D36 -> 0 | E37: =E20+E36 -> 0 | F37: =F20+F36 -> 0 | G37: =IF(E37=0,"",F37/E37-1) | H37: =IF(#REF!=0,"",#REF!/#REF!-1) -> #REF! | I37: =IF(#REF!=0,"",#REF!/#REF!-1) -> #REF! | J37: =IF(#REF!=0,"",#REF!/#REF!-1) -> #REF! | K37: =IF(#REF!=0,"",#REF!/#REF!-1) -> #REF!
B40: Наименование строки баланса | C40: Code of the line
B41: Собственный капитал и обязательства | D41: =D7 -> 45657 | E41: =E7 -> 46022 | F41: =F7 -> 0 | G41: =G7 -> Изменение 01.04.26 (+-%) | H41: =H7 -> Изменение 01.04.15(+-%) | I41: =I7 -> Изменение 01.07.15(+-%) | J41: =J7 -> Изменение 01.10.15(+-%) | K41: =K7 -> Изменение 01.01.16 (+-%)
B42: III. СОБСТВЕННЫЙ КАПИТАЛ
B43: Уставный капитал | C43: 410 | G43: =IF(E43=0,"",F43/E43-1) | H43: =IF(#REF!=0,"",#REF!/#REF!-1) -> #REF! | I43: =IF(#REF!=0,"",#REF!/#REF!-1) -> #REF! | J43: =IF(#REF!=0,"",#REF!/#REF!-1) -> #REF! | K43: =IF(#REF!=0,"",#REF!/#REF!-1) -> #REF!
B44: Неоплаченная часть уставного капитала | C44: 420 | G44: =IF(E44=0,"",F44/E44-1) | H44: =IF(#REF!=0,"",#REF!/#REF!-1) -> #REF! | I44: =IF(#REF!=0,"",#REF!/#REF!-1) -> #REF! | J44: =IF(#REF!=0,"",#REF!/#REF!-1) -> #REF! | K44: =IF(#REF!=0,"",#REF!/#REF!-1) -> #REF!
...

Sheet Заключение
I2: Дата: | K2: Да
A3: ЗАКЛЮЧЕНИЕ о возможности предоставления финансовой поддержки (примерная форма) | K3: Нет
A4: 1. Данные Заявителя | K4: УСН
A5: Полное наименование субъекта малого, среднего предпринимательства | D5: =Заявка!A4 -> 0
A6: Сокращенное наименование | D6: =Заявка!A6 -> 0
A7: УНП | D7: =Заявка!G7 -> 0
A8: № по ОКЭД | D8: =Заявка!G12 -> 0
A9: Местонахождение заявителя | D9: =Заявка!G37 -> 0
A10: Е-mail | D10: =Заявка!G57 -> 0
A11: Информация о видах деятельности, уставный фонд, лицензии:
A12: Основной вид деятельности | G12: =Заявка!G11 -> 0
A13: ОКЭД: | G13: =Заявка!G12 -> 0
A14: Доля в общем объеме выручки % | G14: =Заявка!G13 -> 0
A15: Сезонность деятельности организации (если есть) | G15: =Заявка!G14 -> 0
A16: Второй вид деятельность (ОКЭД) | H16: Иные виды деятельности (ОКЭД)
A17: =Заявка!A16 -> 0 | H17: =Заявка!H16 -> 0
A18: Доля в общем объеме выручки % | H18: Доля в общем объеме выручки %
A19: =Заявка!A18 -> 0 | H19: =Заявка!H18 -> 0
A20: Лицензируемые виды деятельности (Да/Нет):
A21: =Заявка!A20 -> 0
A22: Вид лицензии, №, срок действия, кем выдана
A23: =Заявка!A22 -> 0
A24: Уставный фонд (размер, руб.) (для организаций) | G24: =Заявка!G23 -> 0
A25: Распределение уставного фонда
A26: =Заявка!A25 -> Ф.И.О. (Полностью)/ Полное наименование организации | F26: Доля в УФ, % | G26: =Заявка!G25 -> Идентификационный (личный) номер/ УНП
A27: =Заявка!A26 -> 0 | F27: =Заявка!F26 -> 0 | G27: =Заявка!G26 -> 0
A28: =Заявка!A27 -> 0 | F28: =Заявка!F27 -> 0 | G28: =Заявка!G27 -> 0
A29: =Заявка!A28 -> 0 | F29: =Заявка!F28 -> 0 | G29: =Заявка!G28 -> 0
A30: =Заявка!A29 -> 0 | F30: =Заявка!F29 -> 0 | G30: =Заявка!G29 -> 0
A31: =Заявка!A30 -> 0 | F31: =Заявка!F30 -> 0 | G31: =Заявка!G30 -> 0
A32: =Заявка!A31 -> 0 | F32: =Заявка!F31 -> 0 | G32: =Заявка!G31 -> 0
A33: =Заявка!A32 -> 0 | F33: =Заявка!F32 -> 0 | G33: =Заявка!G32 -> 0
A34: =Заявка!A33 -> 0 | F34: =Заявка!F33 -> 0 | G34: =Заявка!G33 -> 0
A35: =Заявка!A34 -> 0 | F35: =Заявка!F34 -> 0 | G35: =Заявка!G34 -> 0
A36: Наименование организаций и УНП, акционером (учредителем) которых является заявитель, доля в уставном фонде: | G36: =Заявка!G35 -> 0
A37: Дата государственной регистрации | E37: =Заявка!G8 -> 0
A38: Малая организация (численность работников до 100 человек)
A39: Средняя организация (численность работников до 250 человек)
A40: Правоспособность юридического лица установлена а также лица, выступающего от имени организации
A42: 2. Критерии соответствия Заявителя
...

Sheet Критерии
A1: ОСНОВНЫЕ КРИТЕРИИ
A2: конкурсного отбора Проектов субъектов МСП
A3: Наименование критерия | B3: Характеристика критерия | D3: Количество баллов
A4: Актуальность проекта | B4: целевое использование финансовой поддержки | C4: возведение, реконструкция, модернизация, техническая модернизация, ремонт капитальных строений (зданий, сооружений), изолированных помещений, проведение ремонтно-реставрационных работ и монтаж всех видов оборудования, приобретение капитальных строений (зданий, сооружений), изолированных помещений, приобретение машин и оборудования, транспортных средств, специальных устройств и приспособлений, инструментов для реализации Проекта (свыше 50% суммы Договора финансирования) | D4: 2
C5: приобретение комплектующих изделий, сырья, материалов для реализации Проекта (свыше 50% суммы Договора финансирования) | D5: 1
C6: иное (свыше 50% суммы Договора финансирования) | D6: 0
B7: региональный критерий (местонахождение субъекта МСП) | C7: регионы (за исключением г. Минска, Минского района, областных центров) | D7: 2
C8: областные центры (за исключением г. Минск) | D8: 1
C9: г. Минск, Минский район | D9: 0
B10: отраслевой критерий (отнесение вида деятельности субъекта МСП к определенной секции в соответствии с Общегосударственным классификатором Республики Беларусь «Виды экономической деятельности» | C10: секции A – F, Q | D10: 2
C11: секции H – J, R | D11: 1
C12: иные секции | D12: 0
A13: Перспективность проекта | B13: производственная кооперация | C13: наличие документов, подтверждающих поставку продукции собственного производства, оказание услуг промышленным организациям-резидентам Республики Беларусь, не являющимся субъектами МСП | D13: 2
C14: (предоставляемая финансовая поддержка должна направляться на финансирование деятельности, связанной с производством и поставкой вышеуказанной продукции, оказанием вышеуказанных услуг)
C15: наличие документально подтвержденных намерений поставок продукции собственного производства, оказания услуг промышленным организациям-резидентам Республики Беларусь, не являющимся субъектами МСП | D15: 1
C16: (предоставляемая финансовая поддержка должна направляться на финансирование деятельности, связанной с производством и поставкой вышеуказанной продукции, оказанием вышеуказанных услуг)
C17: отсутствие документов, подтверждающих поставку продукции собственного производства, оказания услуг крупным промышленным предприятиям, документально подтвержденных намерений поставок продукции собственного производства, оказания услуг промышленным организациям-резидентам Республики Беларусь, не являющимся субъектами МСП | D17: 0
B18: экспорт/ | C18: наличие экспортной выручки в размере более 30 % от общего объема выручки за год, предшествующий году обращения за финансовой поддержкой | D18: 2
C19: наличие экспортной выручки в размере от 10 до 30 % включительно от общего объема выручки за год, предшествующий году обращения за финансовой поддержкой | D19: 1
C20: отсутствие или наличие экспортной выручки в размере менее 10 % от общего объема выручки за год, предшествующий году обращения за финансовой поддержкой | D20: 0
A21: Конечный результат проекта | B21: предполагаемый размер годовой выручки на одного работника по итогам реализации проекта | C21: более 4 тыс. базовых величин | D21: 2
C22: от 2 тыс. до 4 тыс. базовых величин | D22: 1
C23: до 2 тыс. базовых величин | D23: 0
B24: предполагаемый размер годовой чистой прибыли (дохода) на одного работника по итогам реализации проекта | C24: более 0,4 тыс. базовых величин | D24: 2
C25: от 0,2 тыс. до 0,4 тыс. базовых величин | D25: 1
C26: до 0,2 тыс. базовых величин | D26: 0
A27: Планируемое привлечение средств для реализации проекта из других источников | B27: более 150 процентов от размера запрашиваемых средств | D27: 4
B28: от 100 до 150 процентов от размера запрашиваемых средств | D28: 3
B29: от 80 до 100 процентов от размера запрашиваемых средств | D29: 2
B30: от 50 до 80 процентов от размера запрашиваемых средств | D30: 1
B31: менее 50 процентов от размера запрашиваемых средств | D31: 0
A32: Создание новых рабочих мест | B32: в количестве 4 и более рабочих мест в расчете на 1 тыс. базовых величин запрашиваемых средств | D32: 4
B33: в количестве от 3 включительно до 4 рабочих мест в расчете на 1 тыс. базовых величин запрашиваемых средств | D33: 3
B34: в количестве от 2 включительно до 3 рабочих мест в расчете на 1 тыс. базовых величин запрашиваемых средств | D34: 2
B35: в количестве от 1 включительно до 2 рабочих мест в расчете на 1 тыс. базовых величин запрашиваемых средств | D35: 1
B36: в количестве менее 1 рабочего места в расчете на 1 тыс. базовых величин запрашиваемых средств | D36: 0
A37: Итого: | D37: =E4+E7+E10+E13+E18+E21+E24+E27+E32 -> 0

Sheet ПОДСКАЗКИ ДЛЯ ЗАКЛЮЧЕНИЯ 
A1: Согласно показателям, указанным в ТЭО, проект является эффективным исходя из того, что рентабельность продаж по итогам последнего года реализации проекта (____%) превышает рентабельность продаж по итогам года, предшествующего году обращения в Фонд (____%). Согласно показателям, указанным в ТЭО, проект является финансово реализуемым исходя из того, что прогнозный поток денежных средств, на протяжении всего периода реализации проекта имеет положительное значение.
